BEGIN:VCALENDAR
VERSION:2.0
PRODID:-//Library Market//iCal Export//EN
BEGIN:VEVENT
SUMMARY:Shark Crafternoon
UID:8635
DTSTAMP:20260419T141400Z
DTSTART:20250710T180000Z
DTEND:20250710T190000Z
LOCATION:902 Game Farm Road, Yorkville, IL 60560, United States
ROOM: Children&#039;s Program Room
DESCRIPTION:IT IS SHARK WEEK!! Let&#039;s CRAFT! We will have a variety o
 f SHARK craft projects just for you. Register soon, spaces are limited. 
URL:https://yorkville.librarycalendar.com/event/shark-crafternoon-8635
END:VEVENT
END:VCALENDAR
